BEGIN:VCALENDAR
VERSION:2.0
PRODID:-//Squarespace Inc/Squarespace 6//v6//EN
BEGIN:VEVENT
UID:5fa9d9a1ef83d42c4701946a@squarespace.com
DTSTAMP:20201110T003854Z
DTSTART:20201126T090000Z
DTEND:20201126T103000Z
SUMMARY:Active Conscious Meditation with Jill
GEO:-12.432655;130.855241
LOCATION:Agoy Yoga\, 28 Bishop Street\, Woolner\, NT\, 0820\, Australia
END:VEVENT
END:VCALENDAR
