BEGIN:VCALENDAR
VERSION:2.0
PRODID:-//Squarespace Inc/Squarespace 6//v6//EN
BEGIN:VEVENT
UID:5f2892dbbb61114b0092c811@squarespace.com
DTSTAMP:20200803T225309Z
DTSTART:20200815T063000Z
DTEND:20200815T080000Z
SUMMARY:Inversion Workshop
GEO:-12.432655;130.855241
LOCATION:Agoy Yoga\, 28 Bishop Street\, Woolner\, NT\, 0820\, Australia
END:VEVENT
END:VCALENDAR
