BEGIN:VCALENDAR
VERSION:2.0
PRODID:-//Squarespace Inc/Squarespace 6//v6//EN
BEGIN:VEVENT
UID:5f6023b17097da622bd8ddfa@squarespace.com
DTSTAMP:20200915T052236Z
DTSTART:20200930T210000Z
DTEND:20201031T073000Z
SUMMARY:Oktoberfest
GEO:-12.432655;130.855241
LOCATION:Agoy Yoga\, 28 Bishop Street\, Woolner\, NT\, 0820\, Australia
END:VEVENT
END:VCALENDAR
