BEGIN:VCALENDAR
VERSION:2.0
PRODID:-//Squarespace Inc/Squarespace 6//v6//EN
BEGIN:VEVENT
UID:5ee946caabe499790e8e9819@squarespace.com
DTSTAMP:20200625T035823Z
DTSTART:20200725T053000Z
DTEND:20200725T063000Z
SUMMARY:Sound Healing Workshop
GEO:-12.432713;130.855263
LOCATION:Agoy Yoga\, 28 Bishop St\, Woolner\, Australia
END:VEVENT
END:VCALENDAR
